Workbook
Name _Toc72296252: 'PB Tab 2-3'!#REF!
Name _Toc72296257: 'PB Tab 4-5'!#REF!
Name _Toc72296258: 'MC Tab 2-4'!#REF!
Name _Toc72296259: 'BU Tab 2-4'!$B$2
Name _Toc72296263: 'LB Tab 3-5'!$B$2
Name _Toc72296266: 'LB Tab 6-7'!#REF!
Name adsfasdassdf: #REF!
Name adsfasdassdf: #REF!
Name adsfasdassdf: #REF!
Name adsfasdassdf: #REF!
Name adsfasdassdf: #REF!
Name afa: '[1]RSK-Tabell 1_2012'!#REF!
Name afa: '[1]RSK-Tabell 1_2012'!#REF!
Name afa: '[1]RSK-Tabell 1_2012'!#REF!
Name afa: '[1]RSK-Tabell 1_2012'!#REF!
Name afa: '[1]RSK-Tabell 1_2012'!#REF!
Name asaf: #REF!
Name asaf: #REF!
Name asaf: #REF!
Name asaf: #REF!
Name asaf: #REF!
Name Excel_BuiltIn__FilterDatabase_1: '[2]Tabell 1'!#REF!
Name Excel_BuiltIn__FilterDatabase_1: '[3]RSK-Tabell 1_2012'!#REF!
Name Excel_BuiltIn__FilterDatabase_1: '[3]RSK-Tabell 1_2012'!#REF!
Name Excel_BuiltIn__FilterDatabase_1: '[3]RSK-Tabell 1_2012'!#REF!
Name Excel_BuiltIn__FilterDatabase_1: '[4]RSK-Tabell 1_2011'!#REF!
Name Excel_BuiltIn__FilterDatabase_1: '[2]Tabell 1'!#REF!
Name Excel_BuiltIn__FilterDatabase_2: #REF!
Name Excel_BuiltIn__FilterDatabase_2: #REF!
Name Excel_BuiltIn__FilterDatabase_2: #REF!
Name Excel_BuiltIn__FilterDatabase_2: #REF!
Name Excel_BuiltIn__FilterDatabase_4: #REF!
Name Excel_BuiltIn__FilterDatabase_4: #REF!
Name Excel_BuiltIn__FilterDatabase_4: #REF!
Name Excel_BuiltIn__FilterDatabase_4: #REF!
Name Excel_BuiltIn__FilterDatabase_4: #REF!
Name Excel_BuiltIn_Print_Titles_4: #REF!
Name Excel_BuiltIn_Print_Titles_4: #REF!
Name Excel_BuiltIn_Print_Titles_4: #REF!
Name Excel_BuiltIn_Print_Titles_4: #REF!
Name Excel_BuiltIn_Print_Titles_4: #REF!
Name Tabell_RS3._Avställda_fordon_efter_län_och_fordonsslag_vid_slutet_av_år_2021.: '[5]NInnehåll _ Content'!#REF!
Name Tabell_RS3._Avställda_fordon_efter_län_och_fordonsslag_vid_slutet_av_år_2021.: '[5]NInnehåll _ Content'!#REF!
Name Tabell_RS3._Avställda_fordon_efter_län_och_fordonsslag_vid_slutet_av_år_2021.: '[6]Innehåll _ Content'!#REF!
Name Tabell_RS3._Avställda_fordon_efter_län_och_fordonsslag_vid_slutet_av_år_2021.: '[6]Innehåll _ Content'!#REF!
Name Tabell_RS3._Avställda_fordon_efter_län_och_fordonsslag_vid_slutet_av_år_2021.: #REF!
Name Tabell_RS3._Avställda_fordon_efter_län_och_fordonsslag_vid_slutet_av_år_2021.: '[5]NInnehåll _ Content'!#REF!
Name Tabell_RS3._Avställda_fordon_efter_län_och_fordonsslag_vid_slutet_av_år_2021.: '[7]Innehåll _ Content'!#REF!
Name Tabell_RS3._Avställda_fordon_efter_län_och_fordonsslag_vid_slutet_av_år_2021.: '[5]NInnehåll _ Content'!#REF!
Name Tabell_RS3._Avställda_fordon_efter_län_och_fordonsslag_vid_slutet_av_år_2021.: 'Innehåll _ Content'!#REF!
Name Table_RS3._Vehicles_not_in_use_by_county_and_kind_of_vehicle_at_the_end_of_year_2021.: '[5]NInnehåll _ Content'!#REF!
Name Table_RS3._Vehicles_not_in_use_by_county_and_kind_of_vehicle_at_the_end_of_year_2021.: '[5]NInnehåll _ Content'!#REF!
Name Table_RS3._Vehicles_not_in_use_by_county_and_kind_of_vehicle_at_the_end_of_year_2021.: '[6]Innehåll _ Content'!#REF!
Name Table_RS3._Vehicles_not_in_use_by_county_and_kind_of_vehicle_at_the_end_of_year_2021.: '[6]Innehåll _ Content'!#REF!
Name Table_RS3._Vehicles_not_in_use_by_county_and_kind_of_vehicle_at_the_end_of_year_2021.: #REF!
Name Table_RS3._Vehicles_not_in_use_by_county_and_kind_of_vehicle_at_the_end_of_year_2021.: '[5]NInnehåll _ Content'!#REF!
Name Table_RS3._Vehicles_not_in_use_by_county_and_kind_of_vehicle_at_the_end_of_year_2021.: '[7]Innehåll _ Content'!#REF!
Name Table_RS3._Vehicles_not_in_use_by_county_and_kind_of_vehicle_at_the_end_of_year_2021.: '[5]NInnehåll _ Content'!#REF!
Name Table_RS3._Vehicles_not_in_use_by_county_and_kind_of_vehicle_at_the_end_of_year_2021.: 'Innehåll _ Content'!#REF!
Name xxxx: '[5]NInnehåll _ Content'!#REF!

Sheet Titel _ Title
A1: Statistik 2026:10
B11: Körsträckor 2025
B12: Vehicle kilometres 2025
B14: Publiceringsdatum: 2026-09-21 / Date of publication: September 21, 2026
B16: Metoden för att producera statistiken Körsträckor har utvecklats och reviderats. I denna tabellbilaga presenteras totala körsträckor, antal fordon i trafik samt
B17: genomsnittlig körsträcka, enligt både gammal och ny metod för åren 2023–2025 (tabellerna PB Tab 1, LB Tab 1 och 2, BU Tab 1 samt MC Tab 1).
B18: Övriga tabeller innehåller enbart körsträckor för 2025 enligt den nya metoden.
B19: För mer information om skillnader mellan gammal och ny metod, se metodrapport på www.trafa.se/vagtrafik/korstrackor/
B21: The method used to produce the statistics on mileage has been developed and revised. This table appendix presents total mileage,
B22: number of vehicles in traffic and average mileage, according to both the old and new methods (tables PB Tab 1, LB Tab 1 and 2, BU Tab 1 and MC Tab 1).
B23: The other tables contain only mileage according to the new method.
B24: For more information about the differences between the old and new methods, see the methodological report www.trafa.se/vagtrafik/korstrackor/
B26: Kontaktperson Trafikanalys / Contact person at Transport Analysis
... B32: tel: 010-479 63 73, e-post: magnus.nystrom@scb.se

Sheet Innehåll _ Content
A1: Innehåll / Content
A3: Personbilar | C3: Passenger cars
A4: ='PB Tab 1'!A1 -> Tabell PB1. Total körsträcka (mil), antal personbilar och genomsnittlig körsträcka. Åren 1999–2025. | C4: ='PB Tab 1'!A2 -> Table PB1. Vehicle kilometres (10 kilometers), number of vehicles and average kilometres driven. Years 1999–2025.
A5: ='PB Tab 2-3'!A1 -> Tabell PB2. Körsträckor (mil) och antal personbilar efter tjänstevikt och ägare. År 2025. | C5: ='PB Tab 2-3'!A2 -> Table PB2. Vehicle kilometres (10 kilometers), number of passenger cars, by kerb weight and owner. Year 2025.
A6: ='PB Tab 2-3'!A27 -> Tabell PB3. Körsträckor (mil) och antal personbilar efter typ av ägare. År 2025. | C6: ='PB Tab 2-3'!A28 -> Table PB3. Vehicle kilometres (10 kilometers) and number of passenger cars by type of owner. Year 2025.
A7: ='PB Tab 4-5'!A1 -> Tabell PB4. Körsträckor (mil) och antal personbilar efter årsmodell/tillverkningsår och ägare. År 2025. | C7: ='PB Tab 4-5'!A2 -> Table PB4. Vehicle kilometres (10 kilometres) and number of passenger cars by year of model/construction and by owner. Year 2025.
A8: ='PB Tab 4-5'!A33 -> Tabell PB5. Körsträckor (mil) och antal personbilar efter drivmedel och ägare. År 2025. | C8: ='PB Tab 4-5'!A34 -> Table PB5. Vehicle kilometres (10 kilometres) and number of passenger cars by fuel and owner. Year 2025.
A9: Lastbilar | C9: Lorries
A10: ='LB Tab 1'!A1 -> Tabell LB1. Total körsträcka (mil), antal lätta lastbilar och genomsnittlig körsträcka. Åren 1999–2025. | C10: ='LB Tab 1'!A2 -> Table LB1. Vehicle kilometres (10 kilometers), number of LGVs and average kilometres driven (10 kilometers). Years 1999–2025.
A11: ='LB Tab 2'!A1 -> Tabell LB2. Total körsträcka (mil), antal tunga lastbilar och genomsnittlig körsträcka. Åren 1999–2025. | C11: ='LB Tab 2'!A2 -> Table LB2. Vehicle kilometres (10 kilometers), number of HGVs and average kilometres driven (10 kilometers). Years 1999–2025.
A12: ='LB Tab 3-5'!$A$1 -> Tabell LB3. Körsträckor (mil) och antal lastbilar efter årsmodell/tillverkningsår och totalvikt. År 2025. | C12: ='LB Tab 3-5'!$A$2 -> Table LB3. Vehicle kilometres (10 kilometers) and number of lorries by year of model/construction and permissible maximum weight. Year 2025.
A13: ='LB Tab 3-5'!$A$32 -> Tabell LB4. Körsträckor och antal lastbilar efter ägare, yrkesmässig trafik, firmabilstrafik och totalvikt. År 2025. | C13: ='LB Tab 3-5'!$A$33 -> Table LB4. Vehicle kilometres (10 kilometers) and number of lorries by owner and used in transport for hire or reward or transport on own account. Year 2025.
A14: ='LB Tab 3-5'!$A$48 -> Tabell LB5. Körsträckor och antal lastbilar efter karosseri. År 2025. | C14: ='LB Tab 3-5'!$A$49 -> Table LB5. Vehicle kilometres (10 kilometers) and number of lorries by type of body. Year 2025.
A15: ='LB Tab 6-7'!$A$1 -> Tabell LB6. Körsträckor (mil) och antal lastbilar efter totalvikt. År 2025. | C15: ='LB Tab 6-7'!$A$2 -> Table LB6. Vehicle kilometres (10 kilometers) and number of lorries by permissible maximum weight. Year 2025.
A16: ='LB Tab 6-7'!$A$27 -> Tabell LB7. Körsträckor (mil) och antal lastbilar efter maximilastvikt. År 2025. | C16: ='LB Tab 6-7'!$A$28 -> Table LB7. Vehicle kilometres (10 kilometers) and number of lorries by load capacity. Year 2025.
A17: ='LB Tab 8'!A1 -> Tabell LB8. Körsträckor, antal lastbilar och genomsnittlig körsträcka per drivmedel. År 2025. | C17: ='LB Tab 8'!A2 -> Table LB8. Vehicle kilometres (10 kms), number of lorries and average vehicle kilometres (10 kms), by fuel. Year 2025.
A18: Bussar | C18: Buses
A19: ='BU Tab 1'!A1 -> Tabell BU1. Total körsträcka (mil), antal bussar och genomsnittlig körsträcka. Åren 1999–2025. | C19: ='BU Tab 1'!A2 -> Table BU1. Vehicle kilometres (10 kilometers), number of buses and average kilometres driven (10 kilometers). Years 1999–2025.
A20: ='BU Tab 2-4'!A1 -> Tabell BU2. Körsträckor (mil) och antal bussar efter årsmodell/tillverkningsår. År 2025. | C20: ='BU Tab 2-4'!A2 -> Table BU2. Vehicle kilometres (10 kilometres) and number of buses by year of model/construction. Year 2025.
A21: ='BU Tab 2-4'!A31 -> Tabell BU3. Körsträckor (mil) och antal bussar efter bussklass. År 2025. | C21: ='BU Tab 2-4'!A32 -> Table BU3. Vehicle kilometres (10 kilometres) by bus class. Year 2025.
A22: ='BU Tab 2-4'!A48 -> Tabell BU4. Körsträckor och antal bussar efter drivmedel. År 2025. | C22: ='BU Tab 2-4'!A49 -> Table BU4. Vehicle kilometres (10 kilometers) and number of buses by fuel. Year 2025.
A23: Motorcyklar | C23: Motorcycles
A24: ='MC Tab 1'!A1 -> Tabell MC1. Total körsträcka (mil), antal fordon och genomsnittlig körsträcka. Åren 1999–2025. | C24: ='MC Tab 1'!A2 -> Table MC1. Vehicle kilometres (10 kilometers), number of vehicles and average kilometres driven (10 kilometers). Years 1999–2025.
A25: ='MC Tab 2-4'!A1 -> Tabell MC2. Körsträckor (mil) och antal motorcyklar efter årsmodell/tillverkningsår och ägare. År 2025. | C25: ='MC Tab 2-4'!A2 -> Table MC2. Number of motorcycles and average 10 kilometres driven by year of model/construction and owner. Year 2025.
A26: ='MC Tab 2-4'!A33 -> Tabell MC3. Körsträckor (mil) och antal motorcyklar efter cylindervolym och ägare. År 2025. | C26: ='MC Tab 2-4'!A34 -> Table MC3. Vehicle kilometres (10 kilometers) and number of motorcycles by cylinder volume and owner. Year 2025.
A27: ='MC Tab 2-4'!A50 -> Tabell MC4. Körsträckor (mil) och antal motorcyklar efter ägare. År 2025. | C27: ='MC Tab 2-4'!A51 -> Table MC4. Vehicle kilometres (10 kilometers) and number of motorcycles by owner. Year 2025.
A28: Regional statistik | C28: Regional statistics
A29: ='RS Tab 1'!A1 -> Tabell RS1. Genomsnittlig körsträcka i mil efter registreringslän och fordonsslag. År 2025. | C29: ='RS Tab 1'!A2 -> Table RS1. Average distance (10 kilometers) driven by kind of vehicle, and by county of registration. Year 2025.

Sheet Kort om statistiken _ In brief
A1: Kort om statistiken
A3: Ändamål och innehåll
A4: Statistiken ska beskriva körsträckor mätt i antal mil som körs med svenskregistrerade besiktningspliktiga fordon. Statistiken omfattar personbilar, lastbilar, bussar och motorcyklar under 2024. Vissa tidsserier presenteras för åren 1999-2024. Statistiken publiceras i april men uppdateras för aktuellt år för motorcyklar först i september.
A6: Statistikens framställning
A7: Statistiken baseras på Transportstyrelsens vägtrafikregister med alla svenskregistrerade vägfordon samt mätarställningar som samlas in vid kontrollbesiktning. Statistiken täcker alla fordon som varit i trafik minst en dag under aktuellt år. Varje fordons körsträcka härleds som differensen mellan två mätarställningar, från två olika besiktningstillfällen. Den totala körsträckan är summan av alla fordonens körsträckor. Vissa fordon saknar körsträcka på grund av att det t.ex. är så nytt att det ännu ej behövt besiktas eller att mätarställningarna ger en orealistisk körsträcka. För alla fordon som saknar körsträcka skattas en körsträcka utifrån så kallad medelvärdesimputation. Detta innebär att ett fordon som saknar körsträcka får samma körsträcka som en grupp av fordon med körsträcka och liknande fordonsegenskaper.
A9: Statistikens kvalitet
A10: De fordon som inte har en observerad körsträcka får en skattad körsträcka, och detta förfarande omfattar stora delar av populationen. Trafikanalys gör i skrivande stund en översyn av modellen som används för att försöka förbättra träffsäkerheten i skattade körsträckor. Metoden som används beskrivs i en Metodrapport på vår hemsida. För vidare diskussion om kvalitet, se statistikens kvalitetsdeklaration ("Dokumentation" på www.trafa.se/vagtrafik/korstrackor/).
A12: The statistics in brief
A14: Purpose and content
A15: The statistics describe vehicle kilometres driven with Swedish-registered vehicles subject to inspection. The statistics include passenger cars, light and heavy goods vehicles, buses and motorcycles during 2024. Some time series are presented for the years 1999-2024. The statistics are published in April but for motorcycles the update for the current year is made in September.
A17: Generating the statistics
A18: The statistics are based on the Swedish Transport Agency's road traffic register with all Swedish-registered road vehicles and odometer readings that are collected during inspection. The statistics cover all vehicles that have been in traffic for at least one day during the current year. The mileage of each vehicle is derived as the difference between two odometer readings, from two different inspections. The total mileage is the sum of all the vehicles' mileages.
... A22: Vehicles that do not have an observed mileage receive an estimated mileage, and this procedure is used for a large share of the population. At the time of writing, Transport Analysis is reviewing the model used to try to improve accuracy in estimated mileage. The model used today is described in a Methodological Report on our website. For further discussion on quality, see the statistics' quality declaration ("Documentation" at www.trafa.se/en/road-traffic/driving-distances-with-swedish-registered-vehicles/).

Sheet Definitioner _ Definitions
A1: Definitioner / Definitions
A2: Antal fordon | B2: Number of vehicles
A3: Statistiken om körsträckor avser kalenderåret och alla fordon som har varit i trafik minst en dag under året. Antalet fordon som varit i trafik minst en dag under året är högre än den uppgift som redovisas i statistiken Fordon; i Fordon redovisas antalet fordon i trafik per den 31 december. | B3: The statistics on vehicle kilometres refer to the calendar year and all vehicles that have been in traffic for at least one day during the year. The number of vehicles in traffic at least one day during the year is higher than the figure reported in the statistics Vehicles; in Vehicles the number of vehicles refers to to the number in traffic on a specific date (December 31st).
A4: Enskild näringsidkare | B4: Sole trader
A5: En enskild näringsidkare är en person som själv driver och ansvarar för ett företag. Enligt Bolagsverket är en enskild näringsidkare inte en juridisk person. I statistiken om fordon redovisas dock alla bolagsformer under juridisk person. | B5: A sole trader is a person who runs and is responsible for a business. According to the Swedish law, a sole trader is not a legal person/entity. In the statistics on vehicles, however, all types of companies are reported under legal persons.
A6: Yrkestrafik | B6: Transport for hire or reward
A7: Yrkestrafik avser fordon som används i yrkesmässig trafik, det vill säga trafik som utförs åt andra mot betalning. Fordonen har tillstånd för yrkestrafik hos Tranportstyrelsen. | B7: Transport for hire or reward refers to vehicles used for commercial purposes, that is, transport services provided to others in exchange for payment. These vehicles are licensed for commercial transport by the Swedish Transport Agency.
A8: Firmabilstrafik | B8: Transport on own account
A9: Firmabilstrafik avser transporter för företagets egen räkning, exempelvis grossister och återförsäljare som distribuerar egna varor till sina kunder. Firmabilstrafik omfattar alla företagsägda fordon (inklusive enskilda näringsidkare) som inte har tillstånd för yrkesmässig trafik. | B9: Transport on own account refers to transport carried out on the company’s own behalf, such as by wholesalers and retailers who distribute their own goods to their customers.Transport on own account includes all company-owned vehicles (including sole traders) that do not have a license for commercial transport.
A10: Tjänstevikt | B10: Unladen vehicle weight
A11: Tjänstevikten är den sammanlagda vikten av fordonet i normalt, fullt driftfärdigt skick inklusive förare och bränsle. | B11: Weight of vehicle (or combination of vehicles) excluding its load when stationary and ready for the road, including driver and fuel.
A12: Maximilast | B12: Load capacity
A13: Maximilast är den högsta vikten (passagerare plus gods) som ett fordon får lastas med. Maximilast är också skillnaden mellan fordonets totalvikt och tjänstevikt. | B13: Maximum weight of goods and passengers declared permissible by the competent authority of the country of registration of the vehicle
... A17: Med lätt lastbil avses lastbil med en totalvikt på högst 3 500 kg, med tung lastbil en totalvikt över 3 500 kg. | B17: A light goods (road) vehicle (LGV) has a gross vehicle weight of 3,500 kilograms or less, while a heavy goods (road) vehicle (HGV) has a gross vehicle weight over 3,500 kilograms.
A18: Husbil
A19: En personbil klass II kallas ofta för husbil men en husbil kan också vara registrerad som en lastbil. Om husbilen är registrerad som lastbil, finns det andra krav på förarens behörighet, fordonets utrustning samt skatter och avgifter. Det är främst äldre husbilar som registrerats som lastbil och de flesta av dem är avställda. Idag är nära nog 100 procent av de nyregistrerade husbilarna personbil klass II. | B19: A class II passenger car is often called a motorhome, but a motorhome can also be registered as a lorry. If the motorhome is registered as a lorry, there are other requirements concerning the driver's licence, the vehicle's equipment and taxes and charges. As of 2007, almost all new motorhomes are registered as passenger cars. However, regarding the stock, there are many older motorhomes that are registered as lorries.
A20: Bussklass | B20: Bus categories
A21: För fordon som är inrättade för befordran av fler än 22 passagerare utöver föraren finns följande fordonsklasser enligt föreskrift nr 107 från Förenta nationernas ekonomiska kommission för Europa (beteckning stadsbuss etc. är Trafikanalys egen): | B21: For vehicles designed for the carriage of more than 22 passengers in addition to the driver, the following classes of vehicles exist according to Regulation No 107 of the United Nations Economic Commission for Europe (the designation 'city bus' etc. is that of Transport Analysis):
A22: Klass I "Stadsbuss" – Fordon med utrymmen för ståplatspassagerare för att medge frekventa förflyttningar av passagerare. | B22: Class I 'City bus' - Vehicle constructed with standing passenger spaces to permit frequent movement of passengers.
A23: Klass II "Regionbuss" – Fordon som huvudsakligen är för sittplatspassagerare och som är utformade för att medge befordran av ståplatspassagerare i mittgången och/eller i ett utrymme som inte är större än att det utrymme som upptas för två dubbelsäten. | B23: Class II 'Regional bus' - Vehicle constructed principally for the carriage of seated passengers and designed to permit the carriage of standing passengers in the gangway and/or in a space not exceeding the space occupied by two double seats.
A24: Klass III "Långfärdsbuss" – Fordon som är uteslutande för befordran av sittplatspassagerare. | B24: Class III 'Coach' - Vehicles constructed exclusively for the carriage of seated passengers.
B25: For vehicles designed to carry a maximum of 22 passengers in addition to the driver, the following classes of vehicles exist:
A26: För fordon som är inrättande för befordran av högst 22 passagerare utöver föraren finns följande fordonsklasser: | B26: For vehicles designed to carry a maximum of 22 passengers in addition to the driver, there are the following vehicle classes:
A27: Klass A "Mindre stadsbuss" – Fordon utformade för befordran av ståplatspassagerare. Ett fordon i denna klass är utrustat med säten och ska ha utrymme för ståplatspassagerare | B27: Class A 'Small city bus' - Vehicles designed to carry standing passengers. A vehicle in this class is equipped with seats and shall have space for standing passengers.
A28: Klass B "Mindre långfärdsbuss" – Fordon som inte är utformade för befordran av ståplatspassagerare. Ett fordon i denna klass saknar utrymme för ståplatspassagerare. | B28: Class B 'Small coach' - Vehicles not designed for the carriage of standing passengers. A vehicle of this class has no space for standing passengers.
A30: Drivmedel | B30: Fuels
A31: Drivmedel avser det drivmedel som fordonet är registrerat för. Det är inte tvingande att ange flera drivmedel även om fordonet kan drivas med t.ex. både bensin och gas. Vi vet inget om vilket drivmedel som i praktiken används. I den gruppering som används för statistiken används första och andra bränslet enligt nedanstående. | B31: The registered fuel is stated as fuel 1 and fuel 2, it is not mandatory to state several fuels in the road traffic register even if the vehicle can be powered by e.g. both petrol and gas. Fuel in these statistics says nothing about which fuel is actually used when driving.
A32: Bensin - fordon som endast har bensin som drivmedel. | B32: Petrol - Vehicles powered by petrol only, including 'mild hybrids' (see below).
A33: Diesel - fordon som har diesel, biodiesel eller dessa i kombination med varandra som drivmedel. | B33: Diesel - Vehicles powered by diesel, biodiesel or a combination of both, including mild hybrids (see below).
A34: El - fordon som endast har el som drivmedel. | B34: Electric - Vehicles powered solely by electricity.
A35: Elhybrid - fordon som har el i kombination med annat bränsle, t.ex. bensin eller diesel, som drivmedel. Elhybrid kan även urskiljas med hjälp av utsläppsklass och/eller elfordon med märkningen el/elhybrid. | B35: Electric hybrid - Vehicles powered by electricity in combination with another fuel, such as petrol or diesel. Hybrid electric vehicles also include those that have "hybrid electric" indicated in the variables emission class and/or electric vehicle. See more below.
A36: Laddhybrid - fordon som är laddningsbara via eluttag och som har el i kombination med annat bränsle, t.ex. bensin eller diesel, som drivmedel. Laddhybrid kan urskiljas med hjälp av utsläppsklass och/eller elfordon med märkningen laddhybrid. | B36: Plug-in hybrid - Vehicles that can be charged by plugging into an electrical outlet and that use electricity in combination with another fuel, e.g. petrol or diesel. Plug-in hybrids also include those vehicles with "plug-in hybrid" in the emission class and/or electric vehicle variables.
A37: Etanol - fordon som har etanol, E85 eller ED95 som första eller andra drivmedel. | B37: Ethanol - Vehicles with ethanol, E85 or ED95 as their first or second fuel.
A38: Gas - de fordon som har naturgas, biogas eller metangas som första eller andra drivmedel. | B38: Gas - Vehicles using natural gas, biogas or methane gas as primary or secondary fuel. Vehicles where gas is used as an admixture and which cannot run on 100% gas are reported under the main fuel.
... A44: Karosserikoder anges i vägtrafikregistret och registreringshandlingar för att beskriva karosseritypen hos en bil eller en släpvagn, t.ex. flak, skåp eller tank. Vissa koder anger dock närmast att fordonet är inrättat för visst ändamål, t.ex. brandfordon eller polisfordon. | B44: Body codes are used in the road traffic register and registration documents to describe the body type of a car or a trailer, such as a flatbed, van or tank. However, some codes mainly indicate that the vehicle is designed for a specific purpose, such as fire or police vehicles.

Sheet Teckenförklaring _ Legends
A1: Teckenförklaring / Legends
A3: Teckenförklaring | C3: Legends
A5: .. | B5: uppgift inte tillgänglig eller alltför osäker | C5: data not available
A6: . | B6: uppgift kan inte förekomma | C6: not applicable
A7: – | B7: noll (inget finns att redovisa) | C7: zero
A8: 0 | B8: mindre än hälften av enheten, men större än noll | C8: less than half of unit used, but more than zero
A9: k | B9: korrigerad uppgift | C9: corrected figure
A10: r | B10: reviderad uppgift | C10: revised figure
A11: xxx | B11: betydande skillnad i jämförbarheten i en tidsserie markeras med en horisontell eller vertikal linje | C11: significant difference in the comparability of time series are marked with a horizontal or vertical line

Sheet PB Tab 1
A1: Tabell PB1. Total körsträcka (mil), antal personbilar och genomsnittlig körsträcka. Åren 1999–2025.
A2: Table PB1. Vehicle kilometres (10 kilometers), number of vehicles and average kilometres driven. Years 1999–2025.
B4: Gammal metod / Old method | G4: Ny metod / New method
A5: År | B5: Total körsträcka (mil) | C5: Antal personbilar | D5: Genomsnittlig körsträcka (mil) | F5: År | G5: Total körsträcka (mil) | H5: Antal personbilar | I5: Genomsnittlig körsträcka (mil)
A6: Year | B6: Total distance (10 kms) | C6: Number of passeneger cars | D6: Average distance (10 kms) | F6: Year | G6: Total distance (10 kms) | H6: Number of passeneger cars | I6: Average distance (10 kms)
A7: 1999 | B7: 5.6706439e+09 | C7: 4370924 | D7: =B7/C7 -> 1297.3559 | F7: 1999 | G7: .. | H7: .. | I7: ..
A8: 2000 | B8: 5.8554743e+09 | C8: 4496868 | D8: =B8/C8 -> 1302.1228 | F8: 2000 | G8: .. | H8: .. | I8: ..
A9: 2001 | B9: 5921506460 | C9: 4616118 | D9: =B9/C9 -> 1282.7892 | F9: 2001 | G9: .. | H9: .. | I9: ..
A10: 2002 | B10: 5943992726 | C10: 4628334 | D10: =B10/C10 -> 1284.2618 | F10: 2002 | G10: .. | H10: .. | I10: ..
A11: 2003 | B11: 6037040610 | C11: 4643535 | D11: =B11/C11 -> 1300.0959 | F11: 2003 | G11: .. | H11: .. | I11: ..
A12: 2004 | B12: 6125068678 | C12: 4689599 | D12: =B12/C12 -> 1306.0965 | F12: 2004 | G12: .. | H12: .. | I12: ..
A13: 2005 | B13: 6158036407 | C13: 4744718 | D13: =B13/C13 -> 1297.872 | F13: 2005 | G13: .. | H13: .. | I13: ..
A14: 2006 | B14: 6207406936 | C14: 4813525 | D14: =B14/C14 -> 1289.5761 | F14: 2006 | G14: .. | H14: .. | I14: ..
A15: 2007 | B15: 6319684828 | C15: 4867107 | D15: =B15/C15 -> 1298.4479 | F15: 2007 | G15: .. | H15: .. | I15: ..
A16: 2008 | B16: 6367674932 | C16: 4833533 | D16: =B16/C16 -> 1317.3956 | F16: 2008 | G16: .. | H16: .. | I16: ..
A17: 2009 | B17: 6272007118 | C17: 4827462 | D17: =B17/C17 -> 1299.2349 | F17: 2009 | G17: .. | H17: .. | I17: ..
A18: 2010 | B18: 6271244185 | C18: 4934447 | D18: =B18/C18 -> 1270.9112 | F18: 2010 | G18: .. | H18: .. | I18: ..
... A30: 2022 | B30: 6.4851448e+09 | C30: 5759366 | D30: =B30/C30 -> 1126.0171 | F30: 2022 | G30: .. | H30: .. | I30: ..
A31: 2023 | B31: 6505712438 | C31: 5777573 | D31: =B31/C31 -> 1126.0286 | F31: 2023 | G31: 6.7636375e+09 | H31: 5672556 | I31: =G31/H31 -> 1192.3439
A32: 2024 | B32: 6.6146705e+09 | C32: 5794736 | D32: =B32/C32 -> 1141.4964 | F32: 2024 | G32: 6.8724626e+09 | H32: 5653626 | I32: =G32/H32 -> 1215.5849
A33: 2025 | B33: 6.7507835e+09 | C33: 5763198 | D33: 1171.3607 | F33: 2025 | G33: 7.0428657e+09 | H33: 5667287 | I33: =G33/H33 -> 1242.7226

Sheet PB Tab 2-3
A1: Tabell PB2. Körsträckor (mil) och antal personbilar efter tjänstevikt och ägare. År 2025.
A2: Table PB2. Vehicle kilometres (10 kilometers), number of passenger cars, by kerb weight and owner. Year 2025.
B4: Totalt antal körda mil | E4: Antal personbilar | H4: Medelkörsträcka i mil
A5: Tjänstevikt | B5: Fysiska | C5: Juridiska | E5: Fysiska | F5: Juridiska | H5: Fysiska | I5: Juridiska
A6: i kg | B6: personer | C6: personer | E6: personer | F6: personer | H6: personer | I6: personer | J6: Totalt
A7: - 900 | B7: 10064434 | C7: 2395349.3 | E7: 19792 | F7: 4880 | H7: =B7/E7 -> 508.51021 | I7: =C7/F7 -> 490.85027 | J7: =(B7+C7)/(E7+F7) -> 505.01716
A8: 901 - 1 000 | B8: 54338944 | C8: 8495856.3 | E8: 71792 | F8: 11035 | H8: =B8/E8 -> 756.89413 | I8: =C8/F8 -> 769.90089 | J8: =(B8+C8)/(E8+F8) -> 758.62702
A9: 1 001 - 1 100 | B9: 1.077924e+08 | C9: 19968761 | E9: 142051 | F9: 23947 | H9: =B9/E9 -> 758.82887 | I9: =C9/F9 -> 833.87316 | J9: =(B9+C9)/(E9+F9) -> 769.65482
A10: 1 101 - 1 200 | B10: 2.8732743e+08 | C10: 45657477 | E10: 327141 | F10: 47403 | H10: =B10/E10 -> 878.29843 | I10: =C10/F10 -> 963.17696 | J10: =(B10+C10)/(E10+F10) -> 889.04082
A11: 1 201 - 1 300 | B11: 2.9289852e+08 | C11: 53972267 | E11: 312174 | F11: 53892 | H11: =B11/E11 -> 938.25404 | I11: =C11/F11 -> 1001.4894 | J11: =(B11+C11)/(E11+F11) -> 947.56351
A12: 1 301 - 1 400 | B12: 5.074554e+08 | C12: 95703240 | E12: 503017 | F12: 90152 | H12: =B12/E12 -> 1008.8236 | I12: =C12/F12 -> 1061.5765 | J12: =(B12+C12)/(E12+F12) -> 1016.8411
A13: 1 401 - 1 500 | B13: 5.7715768e+08 | C13: 1.5197621e+08 | E13: 527864 | F13: 113383 | H13: =B13/E13 -> 1093.3833 | I13: =C13/F13 -> 1340.3791 | J13: =(B13+C13)/(E13+F13) -> 1137.0562
A14: 1 501 - 1 600 | B14: 5.8004748e+08 | C14: 1.39792e+08 | E14: 522123 | F14: 110434 | H14: =B14/E14 -> 1110.9403 | I14: =C14/F14 -> 1265.842 | J14: =(B14+C14)/(E14+F14) -> 1137.9836
A15: 1 601 - 1 700 | B15: 6.55451e+08 | C15: 1.7560734e+08 | E15: 537769 | F15: 133059 | H15: =B15/E15 -> 1218.8337 | I15: =C15/F15 -> 1319.7705 | J15: =(B15+C15)/(E15+F15) -> 1238.8546
A16: 1 701 - 2 000 | B16: 1.3718354e+09 | C16: 5.5395814e+08 | E16: 953915 | F16: 332984 | H16: =B16/E16 -> 1438.1107 | I16: =C16/F16 -> 1663.6179 | J16: =(B16+C16)/(E16+F16) -> 1496.4605
A17: 2 001 - 2 500 | B17: 4.6815876e+08 | C17: 6.6978568e+08 | E17: 310194 | F17: 348045 | H17: =B17/E17 -> 1509.2451 | I17: =C17/F17 -> 1924.4227 | J17: =(B17+C17)/(E17+F17) -> 1728.7709
A18: 2 501 - 3 000 | B18: 51080037 | C18: 1.1224238e+08 | E18: 45407 | F18: 54468 | H18: =B18/E18 -> 1124.9375 | I18: =C18/F18 -> 2060.7032 | J18: =(B18+C18)/(E18+F18) -> 1635.2683
A19: 3 001- | B19: 36826137 | C19: 12873786 | E19: 56269 | F19: 14093 | H19: =B19/E19 -> 654.46582 | I19: =C19/F19 -> 913.48797 | J19: =(B19+C19)/(E19+F19) -> 706.34608
A20: Okänd | B20: – | C20: 3573.89 | E20: – | F20: 4 | H20: – | I20: =C20/F20 -> 893.4725 | J20: 893
A21: Totalt | B21: =SUM(B7:B20) -> 5.0004336e+09 | C21: =SUM(C7:C20) -> 2.0424321e+09 | E21: =SUM(E7:E20) -> 4329508 | F21: =SUM(F7:F20) -> 1337779 | H21: =B21/E21 -> 1154.9658 | I21: =C21/F21 -> 1526.7335 | J21: =(B21+C21)/(E21+F21) -> 1242.7226
A27: Tabell PB3. Körsträckor (mil) och antal personbilar efter typ av ägare. År 2025.
A28: Table PB3. Vehicle kilometres (10 kilometers) and number of passenger cars by type of owner. Year 2025.
A30: Ägare | C30: Totalt antal körda mil | E30: Antal personbilar | H30: Medelkörsträcka i mil
A31: Fysiska personer | C31: 5.0004336e+09 | E31: 4329508 | H31: =C31/E31 -> 1154.9658
A32: Kvinnor | C32: 1.7001601e+09 | E32: 1512763 | H32: =C32/E32 -> 1123.8774
A33: Män | C33: 3.3002735e+09 | E33: 2816745 | H33: =C33/E33 -> 1171.6622
A34: Juridiska personer | C34: 2.0424321e+09 | E34: 1337779 | H34: =C34/E34 -> 1526.7335
A35: därav enskilda näringsidkare | C35: 7.1141518e+08 | E35: 540579 | H35: =C35/E35 -> 1316.0244
A36: Totalt | C36: =C31+C34 -> 7.0428657e+09 | E36: =E31+E34 -> 5667287 | H36: =C36/E36 -> 1242.7226
A37: därav leasade bilar | C37: 8.6250768e+08 | E37: 509219 | H37: =C37/E37 -> 1693.7853
A38: därav taxi | C38: 1.423516e+08 | E38: 23051 | H38: =C38/E38 -> 6175.5064
A39: därav husbil | C39: 64667451 | E39: 95698 | H39: =C39/E39 -> 675.74507

Sheet PB Tab 4-5
A1: Tabell PB4. Körsträckor (mil) och antal personbilar efter årsmodell/tillverkningsår och ägare. År 2025.
A2: Table PB4. Vehicle kilometres (10 kilometres) and number of passenger cars by year of model/construction and by owner. Year 2025.
B4: Totalt antal körda mil | G4: Antal | K4: Medelkörsträcka i mil | Q4: Genomsnittlig
A5: Årsmodell/ | B5: Fysiska | D5: Juridiska | G5: Fysiska | I5: Juridiska | K5: Fysiska | M5: Juridiska | Q5: daglig
A6: tillverkningsår | B6: personer | D6: personer | G6: personer | I6: personer | K6: personer | M6: personer | O6: Totalt | Q6: körsträcka
A7: -2007 | B7: 7.7949169e+08 | D7: 1.6778217e+08 | G7: 1054481 | I7: 233660 | K7: =B7/G7 -> 739.21833 | M7: =D7/I7 -> 718.06114 | O7: =(B7+D7)/(G7+I7) -> 735.38056 | Q7: 2.333989
A8: 2008 | B8: 1.3210588e+08 | D8: 24712671 | G8: 137215 | I8: 25647 | K8: =B8/G8 -> 962.7656 | M8: =D8/I8 -> 963.56964 | O8: =(B8+D8)/(G8+I8) -> 962.89221 | Q8: 2.931076
A9: 2009 | B9: 1.2222376e+08 | D9: 21791674 | G9: 119639 | I9: 20881 | K9: =B9/G9 -> 1021.6047 | M9: =D9/I9 -> 1043.6126 | O9: =(B9+D9)/(G9+I9) -> 1024.875 | Q9: 3.047988
A10: 2010 | B10: 2.0166963e+08 | D10: 37268368 | G10: 187066 | I10: 33333 | K10: =B10/G10 -> 1078.0667 | M10: =D10/I10 -> 1118.0622 | O10: =(B10+D10)/(G10+I10) -> 1084.1156 | Q10: 3.195168
A11: 2011 | B11: 2.3671382e+08 | D11: 43203086 | G11: 206551 | I11: 36128 | K11: =B11/G11 -> 1146.0309 | M11: =D11/I11 -> 1195.8339 | O11: =(B11+D11)/(G11+I11) -> 1153.4451 | Q11: 3.370421
A12: 2012 | B12: 2.2330172e+08 | D12: 40349633 | G12: 187029 | I12: 32368 | K12: =B12/G12 -> 1193.9417 | M12: =D12/I12 -> 1246.5903 | O12: =(B12+D12)/(G12+I12) -> 1201.709 | Q12: 3.498426
A13: 2013 | B13: 2.3540591e+08 | D13: 42443232 | G13: 193406 | I13: 32767 | K13: =B13/G13 -> 1217.1593 | M13: =D13/I13 -> 1295.3042 | O13: =(B13+D13)/(G13+I13) -> 1228.4806 | Q13: 3.549547
A14: 2014 | B14: 2.7930555e+08 | D14: 51797687 | G14: 222133 | I14: 38424 | K14: =B14/G14 -> 1257.3798 | M14: =D14/I14 -> 1348.0556 | O14: =(B14+D14)/(G14+I14) -> 1270.7517 | Q14: 3.651938
A15: 2015 | B15: 3.2514003e+08 | D15: 62624898 | G15: 249758 | I15: 44113 | K15: =B15/G15 -> 1301.8203 | M15: =D15/I15 -> 1419.6472 | O15: =(B15+D15)/(G15+I15) -> 1319.5073 | Q15: 3.781031
A16: 2016 | B16: 3.6262308e+08 | D16: 72150499 | G16: 275988 | I16: 49098 | K16: =B16/G16 -> 1313.9089 | M16: =D16/I16 -> 1469.5201 | O16: =(B16+D16)/(G16+I16) -> 1337.4109 | Q16: 3.831655
A17: 2017 | B17: 3.4822374e+08 | D17: 76526715 | G17: 257599 | I17: 49147 | K17: =B17/G17 -> 1351.8055 | M17: =D17/I17 -> 1557.0984 | O17: =(B17+D17)/(G17+I17) -> 1384.6976 | Q17: 3.977308
A18: 2018 | B18: 3.1188873e+08 | D18: 75635527 | G18: 228660 | I18: 45993 | K18: =B18/G18 -> 1363.9846 | M18: =D18/I18 -> 1644.5008 | O18: =(B18+D18)/(G18+I18) -> 1410.9595 | Q18: 4.051744
A19: 2019 | B19: 3.0576229e+08 | D19: 95359946 | G19: 215362 | I19: 52617 | K19: =B19/G19 -> 1419.7597 | M19: =D19/I19 -> 1812.341 | O19: =(B19+D19)/(G19+I19) -> 1496.842 | Q19: 4.290186
... A24: 2024 | B24: 1.6033114e+08 | D24: 3.0877696e+08 | G24: 108585 | I24: 145175 | K24: =B24/G24 -> 1476.5496 | M24: =D24/I24 -> 2126.9293 | O24: =(B24+D24)/(G24+I24) -> 1848.629 | Q24: 5.795296
A25: 2025- | B25: 46801997 | D25: 1.2202061e+08 | G25: 74049 | I25: 129690 | K25: =B25/G25 -> 632.0409 | M25: =D25/I25 -> 940.86368 | O25: =(B25+D25)/(G25+I25) -> 828.62195 | Q25: 5.881631
A26: Totalt | B26: =SUM(B7:B25) -> 5.0004336e+09 | D26: =SUM(D7:D25) -> 2.0424321e+09 | G26: =SUM(G7:G25) -> 4329508 | I26: =SUM(I7:I25) -> 1337779 | K26: =B26/G26 -> 1154.9658 | M26: =D26/I26 -> 1526.7335 | O26: =(B26+D26)/(G26+I26) -> 1242.7226 | Q26: 3.776306
A33: Tabell PB5. Körsträckor (mil) och antal personbilar efter drivmedel och ägare. År 2025.
A34: Table PB5. Vehicle kilometres (10 kilometres) and number of passenger cars by fuel and owner. Year 2025.
B36: Totalt antal körda mil | G36: Antal personbilar | K36: Medelkörsträcka i mil
B37: Fysiska | D37: Juridiska | G37: Fysiska | I37: Juridiska | K37: Fysiska | M37: Juridiska
A38: Drivmedel | B38: personer | D38: personer | G38: personer | I38: personer | K38: personer | M38: personer | O38: Totalt
A39: Bensin | B39: 2.0571709e+09 | D39: 4.1578371e+08 | G39: 2208086 | I39: 420984 | K39: =B39/G39 -> 931.65343 | M39: =D39/I39 -> 987.64731 | O39: =(B39+D39)/(G39+I39) -> 940.61954
A40: Diesel | B40: 1.8785909e+09 | D40: 6.3392263e+08 | G40: 1342414 | I40: 376283 | K40: =B40/G40 -> 1399.4125 | M40: =D40/I40 -> 1684.6964 | O40: =(B40+D40)/(G40+I40) -> 1461.8712
A41: El | B41: 3.1986911e+08 | D41: 4.6931371e+08 | G41: 213864 | I41: 258353 | K41: =B41/G41 -> 1495.666 | M41: =D41/I41 -> 1816.5599 | O41: =(B41+D41)/(G41+I41) -> 1671.2292
A42: Elhybrid1) | B42: 2.2675216e+08 | D42: 1.2066271e+08 | G42: 177857 | I42: 56479 | K42: =B42/G42 -> 1274.9128 | M42: =D42/I42 -> 2136.4172 | O42: =(B42+D42)/(G42+I42) -> 1482.5502
A43: Laddhybrid | B43: 3.478715e+08 | D43: 3.442124e+08 | G43: 220010 | I43: 181349 | K43: =B43/G43 -> 1581.1622 | M43: =D43/I43 -> 1898.0662 | O43: =(B43+D43)/(G43+I43) -> 1724.3513
A44: Etanol | B44: 1.4741423e+08 | D44: 28363160 | G44: 148926 | I44: 27240 | K44: =B44/G44 -> 989.84888 | M44: =D44/I44 -> 1041.232 | O44: =(B44+D44)/(G44+I44) -> 997.79409
A45: Gas | B45: 22581534 | D45: 30071180 | G45: 18120 | I45: 16973 | K45: =B45/G45 -> 1246.2216 | M45: =D45/I45 -> 1771.7069 | O45: =(B45+D45)/(G45+I45) -> 1500.3766
A46: Övriga | B46: 183250.43 | D46: 102543.25 | G46: 231 | I46: 118 | K46: =B46/G46 -> 793.2919 | M46: =D46/I46 -> 869.01059 | O46: =(B46+D46)/(G46+I46) -> 818.89307
A47: Totalt | B47: =SUM(B39:B46) -> 5.0004336e+09 | D47: =SUM(D39:D46) -> 2.0424321e+09 | G47: =SUM(G39:G46) -> 4329508 | I47: =SUM(I39:I46) -> 1337779 | K47: =B47/G47 -> 1154.9658 | M47: =D47/I47 -> 1526.7335 | O47: =(B47+D47)/(G47+I47) -> 1242.7226
A48: 1) Exklusive mildhybrider, se "Definitioner"

Sheet LB Tab 1
A1: Tabell LB1. Total körsträcka (mil), antal lätta lastbilar och genomsnittlig körsträcka. Åren 1999–2025.
A2: Table LB1. Vehicle kilometres (10 kilometers), number of LGVs and average kilometres driven (10 kilometers). Years 1999–2025.
B4: Gammal metod / Old method | G4: Ny metod / New method
A5: År | B5: Total körsträcka (mil) | C5: Antal lätta lastbilar | D5: Genomsnittlig körsträcka (mil) | F5: År | G5: Total körsträcka (mil) | H5: Antal lätta lastbilar | I5: Genomsnittlig körsträcka (mil)
A6: Year | B6: Total distance (10 kms) | C6: Number of LGVs | D6: Average distance (10 kms) | F6: Year | G6: Total distance (10 kms) | H6: Number of LGVs | I6: Average distance (10 kms)
A7: 1999 | B7: 4.2225766e+08 | C7: 317665 | D7: =B7/C7 -> 1329.2546 | F7: 1999 | G7: .. | H7: .. | I7: ..
A8: 2000 | B8: 4.5739526e+08 | C8: 337939 | D8: =B8/C8 -> 1353.4847 | F8: 2000 | G8: .. | H8: .. | I8: ..
A9: 2001 | B9: 4.8819316e+08 | C9: 367472 | D9: =B9/C9 -> 1328.518 | F9: 2001 | G9: .. | H9: .. | I9: ..
A10: 2002 | B10: 5.1475539e+08 | C10: 385708 | D10: =B10/C10 -> 1334.5728 | F10: 2002 | G10: .. | H10: .. | I10: ..
A11: 2003 | B11: 5.4514138e+08 | C11: 400511 | D11: =B11/C11 -> 1361.1146 | F11: 2003 | G11: .. | H11: .. | I11: ..
A12: 2004 | B12: 5.8033868e+08 | C12: 421708 | D12: =B12/C12 -> 1376.1624 | F12: 2004 | G12: .. | H12: .. | I12: ..
A13: 2005 | B13: 6.3160427e+08 | C13: 445394 | D13: =B13/C13 -> 1418.0799 | F13: 2005 | G13: .. | H13: .. | I13: ..
A14: 2006 | B14: 6.7418041e+08 | C14: 471809 | D14: =B14/C14 -> 1428.9266 | F14: 2006 | G14: .. | H14: .. | I14: ..
A15: 2007 | B15: 7.2200007e+08 | C15: 495214 | D15: =B15/C15 -> 1457.9557 | F15: 2007 | G15: .. | H15: .. | I15: ..
A16: 2008 | B16: 748182703 | C16: 504850 | D16: =B16/C16 -> 1481.9901 | F16: 2008 | G16: .. | H16: .. | I16: ..
A17: 2009 | B17: 7.421106e+08 | C17: 507566 | D17: =B17/C17 -> 1462.0968 | F17: 2009 | G17: .. | H17: .. | I17: ..
A18: 2010 | B18: 7.5772551e+08 | C18: 525547 | D18: =B18/C18 -> 1441.7845 | F18: 2010 | G18: .. | H18: .. | I18: ..
... A30: 2022 | B30: 9.6769544e+08 | C30: 703523 | D30: =B30/C30 -> 1375.4994 | F30: 2022 | G30: .. | H30: .. | I30: ..
A31: 2023 | B31: 9.5707317e+08 | C31: 718693 | D31: =B31/C31 -> 1331.6857 | F31: 2023 | G31: 1.0145283e+09 | H31: 706215 | I31: =G31/H31 -> 1436.5714
A32: 2024 | B32: 9.5809327e+08 | C32: 735048 | D32: =B32/C32 -> 1303.4431 | F32: 2024 | G32: 1.0077543e+09 | H32: 711714 | I32: =G32/H32 -> 1415.954
A33: 2025 | B33: 9.658014e+08 | C33: 723416 | D33: =B33/C33 -> 1335.0567 | F33: 2025 | G33: 1.0147945e+09 | H33: 708731 | I33: =G33/H33 -> 1431.8473

Sheet LB Tab 2
A1: Tabell LB2. Total körsträcka (mil), antal tunga lastbilar och genomsnittlig körsträcka. Åren 1999–2025.
A2: Table LB2. Vehicle kilometres (10 kilometers), number of HGVs and average kilometres driven (10 kilometers). Years 1999–2025.
B4: Gammal metod / Old method | G4: Ny metod / New method
A5: År | B5: Total körsträcka (mil) | C5: Antal tunga lastbilar | D5: Genomsnittlig körsträcka (mil) | F5: År | G5: Total körsträcka (mil) | H5: Antal tunga lastbilar | I5: Genomsnittlig körsträcka (mil)
A6: Year | B6: Total distance (10 kms) | C6: Number of HGVs | D6: Average distance (10 kms) | F6: Year | G6: Total distance (10 kms) | H6: Number of HGVs | I6: Average distance (10 kms)
A7: 1999 | B7: 3.8752995e+08 | C7: 91088 | D7: =B7/C7 -> 4254.4567 | F7: 1999 | G7: .. | H7: .. | I7: ..
A8: 2000 | B8: 4.0794996e+08 | C8: 92349 | D8: =B8/C8 -> 4417.4811 | F8: 2000 | G8: .. | H8: .. | I8: ..
A9: 2001 | B9: 4.0440173e+08 | C9: 93203 | D9: =B9/C9 -> 4338.9347 | F9: 2001 | G9: .. | H9: .. | I9: ..
A10: 2002 | B10: 4.004586e+08 | C10: 93717 | D10: =B10/C10 -> 4273.0625 | F10: 2002 | G10: .. | H10: .. | I10: ..
A11: 2003 | B11: 4.0212043e+08 | C11: 92752 | D11: =B11/C11 -> 4335.4367 | F11: 2003 | G11: .. | H11: .. | I11: ..
A12: 2004 | B12: 4.0620841e+08 | C12: 92807 | D12: =B12/C12 -> 4376.9157 | F12: 2004 | G12: .. | H12: .. | I12: ..
A13: 2005 | B13: 417862383 | C13: 93548 | D13: =B13/C13 -> 4466.8233 | F13: 2005 | G13: .. | H13: .. | I13: ..
A14: 2006 | B14: 4.307179e+08 | C14: 94702 | D14: =B14/C14 -> 4548.1395 | F14: 2006 | G14: .. | H14: .. | I14: ..
A15: 2007 | B15: 4.4749891e+08 | C15: 96277 | D15: =B15/C15 -> 4648.0355 | F15: 2007 | G15: .. | H15: .. | I15: ..
A16: 2008 | B16: 4.4639173e+08 | C16: 97317 | D16: =B16/C16 -> 4586.9861 | F16: 2008 | G16: .. | H16: .. | I16: ..
A17: 2009 | B17: 4.1281367e+08 | C17: 96187 | D17: =B17/C17 -> 4291.7824 | F17: 2009 | G17: .. | H17: .. | I17: ..
A18: 2010 | B18: 4.1629119e+08 | C18: 97217 | D18: =B18/C18 -> 4282.0822 | F18: 2010 | G18: .. | H18: .. | I18: ..
... A30: 2022 | B30: 4.3792304e+08 | C30: 103349 | D30: =B30/C30 -> 4237.3225 | F30: 2022 | G30: .. | H30: .. | I30: ..
A31: 2023 | B31: 4.2509277e+08 | C31: 104484 | D31: =B31/C31 -> 4068.4964 | F31: 2023 | G31: 4.1656857e+08 | H31: 101221 | I31: =G31/H31 -> 4115.4362
A32: 2024 | B32: 417208071 | C32: 104156 | D32: =B32/C32 -> 4005.6077 | F32: 2024 | G32: 4.0820145e+08 | H32: 99899 | I32: =G32/H32 -> 4086.1415
A33: 2025 | B33: 4.1730904e+08 | C33: 103934 | D33: =B33/C33 -> 4015.135 | F33: 2025 | G33: 4.0657608e+08 | H33: 99667 | I33: =G33/H33 -> 4079.345

Sheet LB Tab 3-5
A1: Tabell LB3. Körsträckor (mil) och antal lastbilar efter årsmodell/tillverkningsår och totalvikt. År 2025.
A2: Table LB3. Vehicle kilometres (10 kilometers) and number of lorries by year of model/construction and permissible maximum weight. Year 2025.
B4: Totalt antal körda mil | F4: Antal lastbilar | J4: Medelkörsträcka i mil | N4: Genomsnittlig
A5: Årsmodell/ | B5: Totalvikt i kg | N5: daglig
A6: tillverkningsår | B6: -3500 | C6: 3 501 - | D6: Totalt | F6: -3500 | G6: 3 501 - | H6: Totalt | J6: -3500 | K6: 3 501 - | L6: Totalt | N6: körsträcka
A7: -2007 | B7: 66299871 | C7: 12297973 | D7: 78597844 | F7: 108681 | G7: 19975 | H7: 128656 | J7: =B7/F7 -> 610.04105 | K7: =C7/G7 -> 615.66821 | L7: =D7/H7 -> 610.91472 | N7: 2.117345
A8: 2008 | B8: 17610142 | C8: 2775973.6 | D8: 20386116 | F8: 19197 | G8: 1896 | H8: 21093 | J8: =B8/F8 -> 917.33823 | K8: =C8/G8 -> 1464.1211 | L8: =D8/H8 -> 966.48725 | N8: 3.065493
A9: 2009 | B9: 10566682 | C9: 2217689.4 | D9: 12784371 | F9: 10963 | G9: 1475 | H9: 12438 | J9: =B9/F9 -> 963.84948 | K9: =C9/G9 -> 1503.5182 | L9: =D9/H9 -> 1027.8478 | N9: 3.201059
A10: 2010 | B10: 25433824 | C10: 2327060.4 | D10: 27760884 | F10: 24109 | G10: 1299 | H10: 25408 | J10: =B10/F10 -> 1054.9514 | K10: =C10/G10 -> 1791.4245 | L10: =D10/H10 -> 1092.6041 | N10: 3.32751
A11: 2011 | B11: 33596361 | C11: 4260579 | D11: 37856940 | F11: 30210 | G11: 2042 | H11: 32252 | J11: =B11/F11 -> 1112.094 | K11: =C11/G11 -> 2086.4735 | L11: =D11/H11 -> 1173.7858 | N11: 3.558174
A12: 2012 | B12: 29263240 | C12: 5098010.7 | D12: 34361251 | F12: 24875 | G12: 2200 | H12: 27075 | J12: =B12/F12 -> 1176.4117 | K12: =C12/G12 -> 2317.2776 | L12: =D12/H12 -> 1269.1136 | N12: 3.804059
A13: 2013 | B13: 32210934 | C13: 5775576.4 | D13: 37986511 | F13: 25607 | G13: 2139 | H13: 27746 | J13: =B13/F13 -> 1257.8957 | K13: =C13/G13 -> 2700.1292 | L13: =D13/H13 -> 1369.0806 | N13: 4.046153
A14: 2014 | B14: 44038082 | C14: 10776366 | D14: 54814448 | F14: 33125 | G14: 3501 | H14: 36626 | J14: =B14/F14 -> 1329.4515 | K14: =C14/G14 -> 3078.0822 | L14: =D14/H14 -> 1496.5993 | N14: 4.393384
A15: 2015 | B15: 54909490 | C15: 18346404 | D15: 73255894 | F15: 37518 | G15: 5013 | H15: 42531 | J15: =B15/F15 -> 1463.5506 | K15: =C15/G15 -> 3659.7655 | L15: =D15/H15 -> 1722.4118 | N15: 5.013192
A16: 2016 | B16: 71529110 | C16: 22669212 | D16: 94198322 | F16: 46475 | G16: 5578 | H16: 52053 | J16: =B16/F16 -> 1539.0879 | K16: =C16/G16 -> 4064.0394 | L16: =D16/H16 -> 1809.6617 | N16: 5.240346
A17: 2017 | B17: 83552451 | C17: 27294047 | D17: 1.108465e+08 | F17: 50725 | G17: 6020 | H17: 56745 | J17: =B17/F17 -> 1647.1651 | K17: =C17/G17 -> 4533.8949 | L17: =D17/H17 -> 1953.4144 | N17: 5.623599
A18: 2018 | B18: 83305394 | C18: 33906199 | D18: 1.1721159e+08 | F18: 47132 | G18: 6678 | H18: 53810 | J18: =B18/F18 -> 1767.4912 | K18: =C18/G18 -> 5077.2985 | L18: =D18/H18 -> 2178.2493 | N18: 6.255043
A19: 2019 | B19: 84836304 | C19: 39664044 | D19: 1.2450035e+08 | F19: 46127 | G19: 7003 | H19: 53130 | J19: =B19/F19 -> 1839.1897 | K19: =C19/G19 -> 5663.8647 | L19: =D19/H19 -> 2343.3154 | N19: 6.71479
... A24: 2024 | B24: 55278766 | C24: 33077206 | D24: 88355972 | F24: 30085 | G24: 5339 | H24: 35424 | J24: =B24/F24 -> 1837.4195 | K24: =C24/G24 -> 6195.3935 | L24: =D24/H24 -> 2494.2404 | N24: 7.994802
A25: 2025- | B25: 15336520 | C25: 8341345 | D25: 23677865 | F25: 22293 | G25: 3605 | H25: 25898 | J25: =B25/F25 -> 687.95226 | K25: =C25/G25 -> 2313.8266 | L25: =D25/H25 -> 914.27388 | N25: 7.305854
A26: Totalt | B26: =SUM(B7:B25) -> 1.0147945e+09 | C26: =SUM(C7:C25) -> 4.0657608e+08 | D26: =SUM(D7:D25) -> 1.4213706e+09 | F26: =SUM(F7:F25) -> 708731 | G26: =SUM(G7:G25) -> 99667 | H26: =F26+G26 -> 808398 | J26: =B26/F26 -> 1431.8473 | K26: =C26/G26 -> 4079.345 | L26: =D26/H26 -> 1758.256 | N26: 5.387636
A32: Tabell LB4. Körsträckor och antal lastbilar efter ägare, yrkesmässig trafik, firmabilstrafik och totalvikt. År 2025.
A33: Table LB4. Vehicle kilometres (10 kilometers) and number of lorries by owner and used in transport for hire or reward or transport on own account. Year 2025.
A35: Ägare/Typ av trafik | B35: Totalt antal körda mil | F35: Antal lastbilar | J35: Medelkörsträcka i mil
B36: Totalvikt i kg | F36: Totalvikt i kg | J36: Totalvikt i kg
B37: -3500 | C37: 3 501 - | D37: Totalt | F37: -3500 | G37: 3 501 - | H37: Totalt | J37: -3500 | K37: 3 501 - | L37: Totalt
A38: Juridiska personer | B38: 8.6506705e+08 | C38: 4.0424802e+08 | D38: =B38+C38 -> 1.2693151e+09 | F38: 554186 | G38: 94764 | H38: =F38+G38 -> 648950 | J38: =B38/F38 -> 1560.9688 | K38: =C38/G38 -> 4265.8395 | L38: =D38/H38 -> 1955.952
A39: därav i yrkesmässig trafik | B39: 58616184 | C39: 3.4081097e+08 | D39: =B39+C39 -> 3.9942716e+08 | F39: 22090 | G39: 58508 | H39: =F39+G39 -> 80598 | J39: =B39/F39 -> 2653.5167 | K39: =C39/G39 -> 5825.032 | L39: =D39/H39 -> 4955.7949
A40: i firmabilstrafik | B40: =B38-B39 -> 8.0645086e+08 | C40: =C38-C39 -> 63437042 | D40: =B40+C40 -> 8.698879e+08 | F40: =F38-F39 -> 532096 | G40: =G38-G39 -> 36256 | H40: =F40+G40 -> 568352 | J40: =B40/F40 -> 1515.6116 | K40: =C40/G40 -> 1749.6978 | L40: =D40/H40 -> 1530.5443
A41: Fysiska personer | B41: 1.4972749e+08 | C41: 2328063.3 | D41: =B41+C41 -> 1.5205556e+08 | F41: 154545 | G41: 4903 | H41: =F41+G41 -> 159448 | J41: =B41/F41 -> 968.8278 | K41: =C41/G41 -> 474.82425 | L41: =D41/H41 -> 953.63727
A42: Totalt | B42: =B38+B41 -> 1.0147945e+09 | C42: =C38+C41 -> 4.0657608e+08 | D42: =D38+D41 -> 1.4213706e+09 | F42: =F38+F41 -> 708731 | G42: =G38+G41 -> 99667 | H42: =F42+G42 -> 808398 | J42: =B42/F42 -> 1431.8473 | K42: =C42/G42 -> 4079.345 | L42: =D42/H42 -> 1758.256
A48: Tabell LB5. Körsträckor och antal lastbilar efter karosseri. År 2025.
A49: Table LB5. Vehicle kilometres (10 kilometers) and number of lorries by type of body. Year 2025.
A51: Kaross | B51: Totalt antal körda mil | C51: Antal lastbilar | D51: Medelkörsträcka i mil
A52: Flakbilar | B52: 70931505 | C52: 72231 | D52: =B52/C52 -> 982.00918
A53: Skåpbilar | B53: 9.361401e+08 | C53: 576198 | D53: =B53/C53 -> 1624.6847
A54: därav med kyl / frys | B54: 70877181 | C54: 13178 | D54: =B54/C54 -> 5378.4475
A55: Timmerbilar | B55: 24878400 | C55: 2611 | D55: =B55/C55 -> 9528.3035
A56: Tankbilar | B56: 15481313 | C56: 2923 | D56: =B56/C56 -> 5296.3781
A57: därav brandfarlig vätska | B57: 117289.82 | C57: 74 | D57: =B57/C57 -> 1584.9976
A58: Dragfordon | B58: 76742313 | C58: 11954 | D58: =B58/C58 -> 6419.802
A59: Utbytbara karosserier och containers | B59: 27051946 | C59: 5394 | D59: =B59/C59 -> 5015.192
A60: Övriga | B60: 2.7014504e+08 | C60: 137087 | D60: =B60/C60 -> 1970.6102
A61: Totalt | B61: =B52+B53+B55+B56+B58+B59+B60 -> 1.4213706e+09 | C61: =C52+C53+C55+C56+C58+C59+C60 -> 808398 | D61: =B61/C61 -> 1758.256

Sheet LB Tab 6-7
A1: Tabell LB6. Körsträckor (mil) och antal lastbilar efter totalvikt. År 2025.
A2: Table LB6. Vehicle kilometres (10 kilometers) and number of lorries by permissible maximum weight. Year 2025.
A4: Totalvikt i kg | B4: Totalt antal körda mil | C4: Antal lastbilar | D4: Medelkörsträcka i mil
A5: – 1 600 | B5: 3215860.5 | C5: 5281 | D5: =B5/C5 -> 608.94916
A6: 1 601 – 2 000 | B6: 55505507 | C6: 50832 | D6: =B6/C6 -> 1091.9402
A7: 2 001 – 2 500 | B7: 2.9781058e+08 | C7: 223012 | D7: =B7/C7 -> 1335.4016
A8: 2 501 – 3 000 | B8: 2.4663597e+08 | C8: 171733 | D8: =B8/C8 -> 1436.1595
A9: 3 001 – 3 500 | B9: 4.1162662e+08 | C9: 257873 | D9: =B9/C9 -> 1596.2377
A10: 3 501 – 6 000 | B10: 7561943 | C10: 6658 | D10: =B10/C10 -> 1135.7679
A11: 6 001 – 10 000 | B11: 4486917.4 | C11: 3708 | D11: =B11/C11 -> 1210.064
A12: 10 001 – 12 000 | B12: 6249059.3 | C12: 4056 | D12: =B12/C12 -> 1540.6951
A13: 12 001 – 16 000 | B13: 9411871.4 | C13: 5225 | D13: =B13/C13 -> 1801.3151
A14: 16 001 – 20 000 | B14: 28904582 | C14: 10603 | D14: =B14/C14 -> 2726.0758
A15: 20 001 – 22 000 | B15: 10698410 | C15: 3355 | D15: =B15/C15 -> 3188.7958
A16: 22 001 – 24 000 | B16: 1025498.6 | C16: 673 | D16: =B16/C16 -> 1523.7721
... A20: 30 001 – | B20: 77761565 | C20: 18093 | D20: =B20/C20 -> 4297.8812
A21: Totalt | B21: =SUM(B5:B20) -> 1.4213706e+09 | C21: =SUM(C5:C20) -> 808398 | D21: =B21/C21 -> 1758.256
A27: Tabell LB7. Körsträckor (mil) och antal lastbilar efter maximilastvikt. År 2025.
A28: Table LB7. Vehicle kilometres (10 kilometers) and number of lorries by load capacity. Year 2025.
A30: Maximilastvikt i kg | B30: Totalt antal körda mil | C30: Antal lastbilar | D30: Medelkörsträcka i mil
A31: – 500 | B31: 70729985 | C31: 67754 | D31: =B31/C31 -> 1043.9234
A32: 501 – 1 000 | B32: 7.6344614e+08 | C32: 522687 | D32: =B32/C32 -> 1460.6182
A33: 1 001 – 1 500 | B33: 1.8320196e+08 | C33: 120810 | D33: =B33/C33 -> 1516.447
A34: 1 501 – 2 000 | B34: 4103114.9 | C34: 3965 | D34: =B34/C34 -> 1034.8335
A35: 2 001 – 2 500 | B35: 2756423.1 | C35: 1995 | D35: =B35/C35 -> 1381.6657
A36: 2 501 – 3 000 | B36: 1456608 | C36: 1315 | D36: =B36/C36 -> 1107.6867
A37: 3 001 – 3 500 | B37: 1882429.5 | C37: 1389 | D37: =B37/C37 -> 1355.2408
A38: 3 501 – 4 000 | B38: 2031288.7 | C38: 1269 | D38: =B38/C38 -> 1600.7003
A39: 4 001 – 5 000 | B39: 3845561.5 | C39: 2570 | D39: =B39/C39 -> 1496.3274
A40: 5 001 – 6 000 | B40: 3234500 | C40: 2254 | D40: =B40/C40 -> 1435.0045
A41: 6 001 – 7 000 | B41: 4292329.2 | C41: 2543 | D41: =B41/C41 -> 1687.8998
A42: 7 001 – 8 000 | B42: 10072881 | C42: 4604 | D42: =B42/C42 -> 2187.8543
... A53: Okänd | B53: 75566.98 | C53: 77 | D53: =B53/C53 -> 981.38935
A54: Totalt | B54: =SUM(B31:B53) -> 1.4213706e+09 | C54: =SUM(C31:C53) -> 808398 | D54: =B54/C54 -> 1758.256

Sheet LB Tab 8
A1: Tabell LB8. Körsträckor, antal lastbilar och genomsnittlig körsträcka per drivmedel. År 2025.
A2: Table LB8. Vehicle kilometres (10 kms), number of lorries and average vehicle kilometres (10 kms), by fuel. Year 2025.
B4: Totalt antal körda mil | E4: Antal lastbilar | H4: Medelkörsträcka i mil
B5: Totalvikt i kg | E5: Totalvikt i kg | H5: Totalvikt i kg
A6: Drivmedel | B6: -3500 | C6: 3 501 - | E6: -3500 | F6: 3 501 - | H6: -3500 | I6: 3 501 -
A7: Bensin | B7: 33828426 | C7: 583576.99 | E7: 49342 | F7: 994 | H7: =B7/E7 -> 685.5909 | I7: =C7/F7 -> 587.09959
A8: Diesel | B8: 9.1825985e+08 | C8: 3.8038912e+08 | E8: 604109 | F8: 92942 | H8: =B8/E8 -> 1520.0235 | I8: =C8/F8 -> 4092.758
A9: El | B9: 36649192 | C9: 4072833.1 | E9: 37279 | F9: 1922 | H9: =B9/E9 -> 983.10555 | I9: =C9/F9 -> 2119.0599
A10: Elhybrid1) | B10: 278113.91 | C10: 132220.1 | E10: 165 | F10: 41 | H10: =B10/E10 -> 1685.5388 | I10: =C10/F10 -> 3224.8805
A11: Laddhybrid | B11: 2431131.5 | C11: - | E11: 2300 | F11: - | H11: =B11/E11 -> 1057.0137 | I11: -
A12: Etanol | B12: 15475229 | C12: 109615.15 | E12: 7985 | F12: 41 | H12: =B12/E12 -> 1938.0374 | I12: =C12/F12 -> 2673.5402
A13: Gas | B13: 7809791 | C13: 21264818 | E13: 7490 | F13: 3706 | H13: =B13/E13 -> 1042.6957 | I13: =C13/F13 -> 5737.9434
A14: Övriga | B14: 62803.15 | C14: 23899.19 | E14: 61 | F14: 21 | H14: =B14/E14 -> 1029.5598 | I14: =C14/F14 -> 1138.0567
A15: Totalt | B15: =SUM(B7:B14) -> 1.0147945e+09 | C15: =SUM(C7:C14) -> 4.0657608e+08 | E15: =SUM(E7:E14) -> 708731 | F15: =SUM(F7:F14) -> 99667 | H15: =B15/E15 -> 1431.8473 | I15: =C15/F15 -> 4079.345
A16: 1) Exklusive mildhybrider, se "Definitioner"

Sheet BU Tab 1
A1: Tabell BU1. Total körsträcka (mil), antal bussar och genomsnittlig körsträcka. Åren 1999–2025.
A2: Table BU1. Vehicle kilometres (10 kilometers), number of buses and average kilometres driven (10 kilometers). Years 1999–2025.
B4: Gammal metod / Old method | G4: Ny metod / New method
A5: År | B5: Total körsträcka (mil) | C5: Antal bussar | D5: Genomsnittlig körsträcka (mil) | F5: År | G5: Total körsträcka (mil) | H5: Antal bussar | I5: Genomsnittlig körsträcka (mil)
A6: Year | B6: Total distance (10 kms) | C6: Number of buses | D6: Average distance (10 kms) | F6: Year | G6: Total distance (10 kms) | H6: Number of buses | I6: Average distance (10 kms)
A7: 1999 | B7: 88068746 | C7: 17007 | D7: 5178.3822 | F7: 1999 | G7: .. | H7: .. | I7: ..
A8: 2000 | B8: 91705466 | C8: 17315 | D8: =B8/C8 -> 5296.3018 | F8: 2000 | G8: .. | H8: .. | I8: ..
A9: 2001 | B9: 91658398 | C9: 17215 | D9: =B9/C9 -> 5324.3333 | F9: 2001 | G9: .. | H9: .. | I9: ..
A10: 2002 | B10: 91307117 | C10: 17142 | D10: =B10/C10 -> 5326.5148 | F10: 2002 | G10: .. | H10: .. | I10: ..
A11: 2003 | B11: 91810402 | C11: 16564 | D11: =B11/C11 -> 5542.7676 | F11: 2003 | G11: .. | H11: .. | I11: ..
A12: 2004 | B12: 91551524 | C12: 16533 | D12: =B12/C12 -> 5537.5022 | F12: 2004 | G12: .. | H12: .. | I12: ..
A13: 2005 | B13: 91821422 | C13: 16509 | D13: =B13/C13 -> 5561.9009 | F13: 2005 | G13: .. | H13: .. | I13: ..
A14: 2006 | B14: 93208076 | C14: 16934 | D14: =B14/C14 -> 5504.1972 | F14: 2006 | G14: .. | H14: .. | I14: ..
A15: 2007 | B15: 93942193 | C15: 16975 | D15: =B15/C15 -> 5534.1498 | F15: 2007 | G15: .. | H15: .. | I15: ..
A16: 2008 | B16: 92253430 | C16: 16311 | D16: =B16/C16 -> 5655.9028 | F16: 2008 | G16: .. | H16: .. | I16: ..
A17: 2009 | B17: 92055071 | C17: 16253 | D17: =B17/C17 -> 5663.8818 | F17: 2009 | G17: .. | H17: .. | I17: ..
A18: 2010 | B18: 93610479 | C18: 16910 | D18: =B18/C18 -> 5535.806 | F18: 2010 | G18: .. | H18: .. | I18: ..
A19: 2011 | B19: 96220059 | C19: 17005 | D19: =B19/C19 -> 5658.3392 | F19: 2011 | G19: .. | H19: .. | I19: ..
... A30: 2022 | B30: 92886971 | C30: 17544 | D30: =B30/C30 -> 5294.515 | F30: 2022 | G30: .. | H30: .. | I30: ..
A31: 2023 | B31: 94913827 | C31: 17376 | D31: =B31/C31 -> 5462.3519 | F31: 2023 | G31: 92923250 | H31: 16763 | I31: =G31/H31 -> 5543.3544
A32: 2024 | B32: 95594534 | C32: 17316 | D32: =B32/C32 -> 5520.5899 | F32: 2024 | G32: 92923410 | H32: 16478 | I32: =G32/H32 -> 5639.2408
A33: 2025 | B33: 95468820 | C33: 18071 | D33: =B33/C33 -> 5282.9849 | F33: 2025 | G33: 93638724 | H33: 17521 | I33: =G33/H33 -> 5344.371

Sheet BU Tab 2-4
A1: Tabell BU2. Körsträckor (mil) och antal bussar efter årsmodell/tillverkningsår. År 2025.
A2: Table BU2. Vehicle kilometres (10 kilometres) and number of buses by year of model/construction. Year 2025.
A4: Årsmodell/ | B4: Totalt antal | C4: Antal bussar | D4: Medelkörsträcka | E4: Genomsnittlig
A5: tillverkningsår | B5: körda mil | D5: i mil | E5: daglig körsträcka
A6: -2007 | B6: 663199.62 | C6: 541 | D6: =B6/C6 -> 1225.8773 | E6: 6.063095
A7: 2008 | B7: 140021.08 | C7: 71 | D7: =B7/C7 -> 1972.1279 | E7: 6.651832
A8: 2009 | B8: 460137.58 | C8: 181 | D8: =B8/C8 -> 2542.1966 | E8: 10.06293
A9: 2010 | B9: 1462208.8 | C9: 384 | D9: =B9/C9 -> 3807.8353 | E9: 13.958633
A10: 2011 | B10: 3046775.7 | C10: 726 | D10: =B10/C10 -> 4196.6607 | E10: 14.873638
A11: 2012 | B11: 2805759.8 | C11: 696 | D11: =B11/C11 -> 4031.264 | E11: 13.853961
A12: 2013 | B12: 3365582.9 | C12: 657 | D12: =B12/C12 -> 5122.6529 | E12: 15.659263
A13: 2014 | B13: 4633898.4 | C13: 946 | D13: =B13/C13 -> 4898.4127 | E13: 14.496697
A14: 2015 | B14: 5751787.5 | C14: 1111 | D14: =B14/C14 -> 5177.1265 | E14: 15.50113
A15: 2016 | B15: 6578542.4 | C15: 1146 | D15: =B15/C15 -> 5740.4384 | E15: 16.860146
A16: 2017 | B16: 6011283.5 | C16: 1161 | D16: =B16/C16 -> 5177.6774 | E16: 15.303441
A17: 2018 | B17: 4961343.3 | C17: 999 | D17: =B17/C17 -> 4966.3096 | E17: 14.612902
A18: 2019 | B18: 8929772.2 | C18: 1397 | D18: =B18/C18 -> 6392.1061 | E18: 18.084845
... A23: 2024 | B23: 5647434.1 | C23: 1034 | D23: =B23/C23 -> 5461.7351 | E23: 16.737601
A24: 2025- | B24: 3925079.5 | C24: 1533 | D24: =B24/C24 -> 2560.3911 | E24: 17.384454
A25: Totalt | B25: =SUM(B6:B24) -> 93638724 | C25: =SUM(C6:C24) -> 17521 | D25: =B25/C25 -> 5344.371 | E25: 16.921472
A31: Tabell BU3. Körsträckor (mil) och antal bussar efter bussklass. År 2025.
A32: Table BU3. Vehicle kilometres (10 kilometres) by bus class. Year 2025.
A34: Bussklass1) | C34: Totalt antal körda mil | D34: Antal bussar | E34: Medelkörsträcka i mil
A35: I | B35: Stadsbuss | C35: 25351108 | D35: 4685 | E35: =C35/D35 -> 5411.1224
A36: II | B36: Regionbuss | C36: 44500093 | D36: 6916 | E36: =C36/D36 -> 6434.3686
A37: III | B37: Långfärdsbuss | C37: 12811350 | D37: 2329 | E37: =C37/D37 -> 5500.7943
A38: A | B38: Mindre stadsbuss | C38: 370266.81 | D38: 123 | E38: =C38/D38 -> 3010.2993
A39: B | B39: Mindre långfärdsbuss | C39: 6425935.9 | D39: 2477 | E39: =C39/D39 -> 2594.2414
A40: Okänd | C40: 4179970.4 | D40: 991 | E40: =C40/D40 -> 4217.9318
A41: Totalt | C41: =SUM(C35:C40) -> 93638724 | D41: =SUM(D35:D40) -> 17521 | E41: =C41/D41 -> 5344.371
A42: 1) Bussklasser enligt enligt föreskrift nr 107 från Förenta nationernas ekonomiska kommission för Europa.
A48: Tabell BU4. Körsträckor och antal bussar efter drivmedel. År 2025.
A49: Table BU4. Vehicle kilometres (10 kilometers) and number of buses by fuel. Year 2025.
A51: Drivmedel | C51: Totalt antal körda mil | D51: Antal bussar | E51: Medelkörsträcka i mil
A52: Bensin | C52: 140171.44 | D52: 35 | E52: =C52/D52 -> 4004.8983
A53: Diesel | C53: 62271031 | D53: 12461 | E53: =C53/D53 -> 4997.274
A54: El | C54: 12619458 | D54: 2361 | E54: =C54/D54 -> 5344.9633
A55: Elhybrid/Laddhybrid1) | C55: 877764.75 | D55: 166 | E55: =C55/D55 -> 5287.7395
A56: Etanol | C56: 53315.95 | D56: 19 | E56: =C56/D56 -> 2806.1026
A57: Gas | C57: 17665766 | D57: 2476 | E57: =C57/D57 -> 7134.8005
A58: Övrigt | C58: 11216.45 | D58: 3 | E58: =C58/D58 -> 3738.8167
A59: Totalt | C59: =SUM(C52:C58) -> 93638724 | D59: =SUM(D52:D58) -> 17521 | E59: =C59/D59 -> 5344.371
A60: 1) På grund av hur bussar registreras i Vägtrafikregistret kan man inte skilja elhybrider från laddhybrider.

Sheet MC Tab 1
A1: Tabell MC1. Total körsträcka (mil), antal fordon och genomsnittlig körsträcka. Åren 1999–2025.
A2: Table MC1. Vehicle kilometres (10 kilometers), number of vehicles and average kilometres driven (10 kilometers). Years 1999–2025.
B4: Gammal metod / Old method | G4: Ny metod / New method
A5: År | B5: Total körsträcka (mil) | C5: Antal motorcyklar | D5: Genomsnittlig körsträcka (mil) | F5: År | G5: Total körsträcka (mil) | H5: Antal motorcyklar | I5: Genomsnittlig körsträcka (mil)
A6: Year | B6: Total distance (10 kms) | C6: Number of motorcycles | D6: Average distance (10 kms) | F6: Year | G6: Total distance (10 kms) | H6: Number of motorcycles | I6: Average distance (10 kms)
A7: 1999 | B7: 43759018 | C7: 165310 | D7: =B7/C7 -> 264.70884 | F7: 1999 | G7: .. | H7: .. | I7: ..
A8: 2000 | B8: 52181331 | C8: 180915 | D8: =B8/C8 -> 288.4301 | F8: 2000 | G8: .. | H8: .. | I8: ..
A9: 2001 | B9: 55070560 | C9: 199451 | D9: =B9/C9 -> 276.11072 | F9: 2001 | G9: .. | H9: .. | I9: ..
A10: 2002 | B10: 59563147 | C10: 220079 | D10: =B10/C10 -> 270.64439 | F10: 2002 | G10: .. | H10: .. | I10: ..
A11: 2003 | B11: 66034252 | C11: 238981 | D11: =B11/C11 -> 276.31591 | F11: 2003 | G11: .. | H11: .. | I11: ..
A12: 2004 | B12: 67970981 | C12: 261214 | D12: =B12/C12 -> 260.21186 | F12: 2004 | G12: .. | H12: .. | I12: ..
A13: 2005 | B13: 70113209 | C13: 277039 | D13: =B13/C13 -> 253.08065 | F13: 2005 | G13: .. | H13: .. | I13: ..
A14: 2006 | B14: 77125282 | C14: 297983 | D14: =B14/C14 -> 258.82444 | F14: 2006 | G14: .. | H14: .. | I14: ..
A15: 2007 | B15: 84622120 | C15: 320392 | D15: =B15/C15 -> 264.12058 | F15: 2007 | G15: .. | H15: .. | I15: ..
A16: 2008 | B16: 84732018 | C16: 329084 | D16: =B16/C16 -> 257.47839 | F16: 2008 | G16: .. | H16: .. | I16: ..
A17: 2009 | B17: 81950965 | C17: 332561 | D17: =B17/C17 -> 246.42386 | F17: 2009 | G17: .. | H17: .. | I17: ..
A18: 2010 | B18: 76081709 | C18: 336197 | D18: =B18/C18 -> 226.30098 | F18: 2010 | G18: .. | H18: .. | I18: ..
... A30: 2022 | B30: 65921464 | C30: 371019 | D30: =B30/C30 -> 177.67679 | F30: 2022 | G30: .. | H30: .. | I30: ..
A31: 2023 | B31: 63244419 | C31: 373064 | D31: =B31/C31 -> 169.527 | F31: 2023 | G31: 64297571 | H31: 359629 | I31: =G31/H31 -> 178.78862
A32: 2024 | B32: 65596478 | C32: 378411 | D32: =B32/C32 -> 173.34718 | F32: 2024 | G32: 64946973 | H32: 361625 | I32: =G32/H32 -> 179.59757
A33: 2025 | B33: 67361372 | C33: 377573 | D33: =B33/C33 -> 178.40622 | F33: 2025 | G33: 66183454 | H33: 363857 | I33: =G33/H33 -> 181.89413

Sheet MC Tab 2-4
A1: Tabell MC2. Körsträckor (mil) och antal motorcyklar efter årsmodell/tillverkningsår och ägare. År 2025.
A2: Table MC2. Number of motorcycles and average 10 kilometres driven by year of model/construction and owner. Year 2025.
A4: Årsmodell/ | B4: Totalt antal körda mil | E4: Antal motorcyklar | H4: Medelkörsträcka i mil
A5: tillverknings- | B5: Fysiska | C5: Juridiska | E5: Fysiska | F5: Juridiska | H5: Fysiska | I5: Juridiska
A6: år | B6: personer | C6: personer | E6: personer | F6: personer | H6: personer | I6: personer | J6: Totalt
A7: -2007 | B7: 17371325 | C7: 3351080.8 | E7: 161869 | F7: 34519 | H7: =B7/E7 -> 107.31718 | I7: =C7/F7 -> 97.079313 | J7: =(B7+C7)/(E7+F7) -> 105.51768
A8: 2008 | B8: 1436492 | C8: 263876.83 | E8: 9825 | F8: 1955 | H8: =B8/E8 -> 146.20783 | I8: =C8/F8 -> 134.97536 | J8: =(B8+C8)/(E8+F8) -> 144.3437
A9: 2009 | B9: 950961.15 | C9: 168743.99 | E9: 6324 | F9: 1282 | H9: =B9/E9 -> 150.37336 | I9: =C9/F9 -> 131.62558 | J9: =(B9+C9)/(E9+F9) -> 147.2134
A10: 2010 | B10: 921577.2 | C10: 177291.03 | E10: 5780 | F10: 1190 | H10: =B10/E10 -> 159.44242 | I10: =C10/F10 -> 148.98406 | J10: =(B10+C10)/(E10+F10) -> 157.65685
A11: 2011 | B11: 1092718.8 | C11: 208066.75 | E11: 6759 | F11: 1545 | H11: =B11/E11 -> 161.6687 | I11: =C11/F11 -> 134.67104 | J11: =(B11+C11)/(E11+F11) -> 156.64565
A12: 2012 | B12: 1030993.1 | C12: 183351.34 | E12: 6520 | F12: 1410 | H12: =B12/E12 -> 158.12777 | I12: =C12/F12 -> 130.03641 | J12: =(B12+C12)/(E12+F12) -> 153.13297
A13: 2013 | B13: 1136874.8 | C13: 230114.9 | E13: 6678 | F13: 1517 | H13: =B13/E13 -> 170.24181 | I13: =C13/F13 -> 151.69077 | J13: =(B13+C13)/(E13+F13) -> 166.80777
A14: 2014 | B14: 1215334 | C14: 220903.5 | E14: 6918 | F14: 1386 | H14: =B14/E14 -> 175.67707 | I14: =C14/F14 -> 159.38203 | J14: =(B14+C14)/(E14+F14) -> 172.95731
A15: 2015 | B15: 1746269.1 | C15: 336689.55 | E15: 8741 | F15: 1742 | H15: =B15/E15 -> 199.7791 | I15: =C15/F15 -> 193.27758 | J15: =(B15+C15)/(E15+F15) -> 198.69872
A16: 2016 | B16: 1802808.8 | C16: 372089.81 | E16: 9120 | F16: 1988 | H16: =B16/E16 -> 197.6764 | I16: =C16/F16 -> 187.16791 | J16: =(B16+C16)/(E16+F16) -> 195.79569
A17: 2017 | B17: 1710075.8 | C17: 368696.58 | E17: 7644 | F17: 1464 | H17: =B17/E17 -> 223.71478 | I17: =C17/F17 -> 251.84193 | J17: =(B17+C17)/(E17+F17) -> 228.23588
A18: 2018 | B18: 1959610.4 | C18: 595267.21 | E18: 8088 | F18: 1950 | H18: =B18/E18 -> 242.28616 | I18: =C18/F18 -> 305.26524 | J18: =(B18+C18)/(E18+F18) -> 254.52059
A19: 2019 | B19: 2230751.6 | C19: 542279.19 | E19: 8312 | F19: 1796 | H19: =B19/E19 -> 268.37724 | I19: =C19/F19 -> 301.93719 | J19: =(B19+C19)/(E19+F19) -> 274.34021
... A24: 2024 | B24: 3813787.5 | C24: 1067000.5 | E24: 8200 | F24: 2320 | H24: =B24/E24 -> 465.09604 | I24: =C24/F24 -> 459.914 | J24: =(B24+C24)/(E24+F24) -> 463.95323
A25: 2025- | B25: 879837.6 | C25: 387601.72 | E25: 2778 | F25: 1145 | H25: =B25/E25 -> 316.7162 | I25: =C25/F25 -> 338.51679 | J25: =(B25+C25)/(E25+F25) -> 323.0791
A26: Totalt | B26: =SUM(B7:B25) -> 53954973 | C26: =SUM(C7:C25) -> 12228481 | E26: =SUM(E7:E25) -> 298166 | F26: =SUM(F7:F25) -> 65691 | H26: =B26/E26 -> 180.95616 | I26: =C26/F26 -> 186.15155 | J26: =(B26+C26)/(E26+F26) -> 181.89413
A33: Tabell MC3. Körsträckor (mil) och antal motorcyklar efter cylindervolym och ägare. År 2025.
A34: Table MC3. Vehicle kilometres (10 kilometers) and number of motorcycles by cylinder volume and owner. Year 2025.
A36: Cylindervolym | B36: Totalt antal körda mil | E36: Antal motorcyklar | H36: Medelkörsträcka i mil
B37: Fysiska | C37: Juridiska | E37: Fysiska | F37: Juridiska | H37: Fysiska | I37: Juridiska
B38: personer | C38: personer | E38: personer | F38: personer | H38: personer | I38: personer | J38: Totalt
A39: -125 | B39: 2002389.5 | C39: 479095.19 | E39: 16773 | F39: 3790 | H39: =B39/E39 -> 119.38172 | I39: =C39/F39 -> 126.41034 | J39: =(B39+C39)/(E39+F39) -> 120.67717
A40: 126 - 600 | B40: 7950525.3 | C40: 1930893.1 | E40: 66209 | F40: 15953 | H40: =B40/E40 -> 120.08224 | I40: =C40/F40 -> 121.03636 | J40: =(B40+C40)/(E40+F40) -> 120.2675
A41: 601 - 1 000 | B41: 21966138 | C41: 4281237 | E41: 114362 | F41: 22923 | H41: =B41/E41 -> 192.0755 | I41: =C41/F41 -> 186.766 | J41: =(B41+C41)/(E41+F41) -> 191.18895
A42: 1 001 - | B42: 21227940 | C42: 4400818.7 | E42: 97780 | F42: 20265 | H42: =B42/E42 -> 217.099 | I42: =C42/F42 -> 217.16352 | J42: =(B42+C42)/(E42+F42) -> 217.11008
A43: Okänd | B43: 398233.38 | C43: 107071.27 | E43: 1974 | F43: 565 | H43: =B43/E43 -> 201.7393 | I43: =C43/F43 -> 189.50667 | J43: =(B43+C43)/(E43+F43) -> 199.01719
A44: Elfordon | B44: 409746.45 | C44: 1029366 | E44: 1068 | F44: 2195 | H44: =B44/E44 -> 383.65772 | I44: =C44/F44 -> 468.95947 | J44: =(B44+C44)/(E44+F44) -> 441.03968
A45: Totalt | B45: =SUM(B39:B44) -> 53954973 | C45: =SUM(C39:C44) -> 12228481 | E45: =SUM(E39:E44) -> 298166 | F45: =SUM(F39:F44) -> 65691 | H45: =B45/E45 -> 180.95616 | I45: =C45/F45 -> 186.15155 | J45: =(B45+C45)/(E45+F45) -> 181.89413
A50: Tabell MC4. Körsträckor (mil) och antal motorcyklar efter ägare. År 2025.
A51: Table MC4. Vehicle kilometres (10 kilometers) and number of motorcycles by owner. Year 2025.
A53: Ägare | C53: Totalt antal körda mil | F53: Antal motorcyklar | I53: Medelkörsträcka i mil
A54: Fysiska personer | C54: 53954973 | F54: 298166 | I54: =C54/F54 -> 180.95616
A55: varav Kvinnor | C55: 4860607.4 | F55: 28065 | I55: =C55/F55 -> 173.19107
A56: varav Män | C56: 49094366 | F56: 270101 | I56: =C56/F56 -> 181.76299
A57: Juridiska personer | C57: 12228481 | F57: 65691 | I57: =C57/F57 -> 186.15155
A58: Totalt | C58: =C54+C57 -> 66183454 | F58: =F54+F57 -> 363857 | I58: =C58/F58 -> 181.89413

Sheet RS Tab 1
A1: Tabell RS1. Genomsnittlig körsträcka i mil efter registreringslän och fordonsslag. År 2025.
A2: Table RS1. Average distance (10 kilometers) driven by kind of vehicle, and by county of registration. Year 2025.
A4: Län | B4: Personbilar | F4: Lastbilar | I4: Bussar | J4: Motorcyklar
B5: Ägd av fysisk person | C5: Ägd av juridisk person | D5: Totalt | F5: -3500 | G5: 3 501 - | H5: Totalt
A6: Stockholm | B6: 1150.1182 | C6: 1787.9923 | D6: 1377.9877 | F6: 1627.9723 | G6: 3503.5174 | H6: 1796.0271 | I6: 5137.4254 | J6: 215.88803
A7: Uppsala | B7: 1206.8636 | C7: 1524.036 | D7: 1270.2744 | F7: 1456.2701 | G7: 3212.6106 | H7: 1680.3909 | I7: 7882.6542 | J7: 174.02884
A8: Södermanland | B8: 1147.2437 | C8: 1400.0744 | D8: 1188.2893 | F8: 1383.5793 | G8: 3706.8378 | H8: 1616.869 | I8: 6739.5296 | J8: 175.49582
A9: Östergötland | B9: 1157.8399 | C9: 1369.9067 | D9: 1197.6877 | F9: 1353.2023 | G9: 3588.2472 | H9: 1613.642 | I9: 5236.9747 | J9: 169.83532
A10: Jönköping | B10: 1199.9303 | C10: 1440.7886 | D10: 1251.7756 | F10: 1400.7885 | G10: 5240.2501 | H10: 1943.903 | I10: 4680.3758 | J10: 175.22198
A11: Kronoberg | B11: 1186.6312 | C11: 1432.6957 | D11: 1243.6093 | F11: 1395.0343 | G11: 5476.452 | H11: 2020.6478 | I11: 2454.9008 | J11: 169.14009
A12: Kalmar | B12: 1151.8384 | C12: 1370.159 | D12: 1193.7089 | F12: 1282.7474 | G12: 4690.9896 | H12: 1708.6001 | I12: 5175.8786 | J12: 164.07784
A13: Gotland | B13: 960.37742 | C13: 1186.5553 | D13: 1004.4341 | F13: 1054.216 | G13: 2557.0925 | H13: 1189.0188 | I13: 5528.9816 | J13: 150.31387
A14: Blekinge | B14: 1138.8884 | C14: 1344.8802 | D14: 1171.9998 | F14: 1254.1181 | G14: 4202.6717 | H14: 1583.1353 | I14: 2742.5225 | J14: 165.17196
A15: Skåne | B15: 1160.2024 | C15: 1454.5804 | D15: 1218.6729 | F15: 1447.1235 | G15: 5054.5402 | H15: 1990.6149 | I15: 4934.5648 | J15: 184.01869
A16: Halland | B16: 1165.6527 | C16: 1437.677 | D16: 1217.9627 | F16: 1350.0077 | G16: 4266.8257 | H16: 1689.518 | I16: 6313.7433 | J16: 168.43459
A17: Västra Götaland | B17: 1184.5887 | C17: 1460.2114 | D17: 1246.1681 | F17: 1423.42 | G17: 4167.5774 | H17: 1795.6976 | I17: 5882.64 | J17: 185.53309
... A28: Totalt | B28: 1154.9658 | C28: 1526.7335 | D28: 1242.7226 | F28: 1431.8473 | G28: 4079.345 | H28: 1758.256 | I28: 5344.371 | J28: 181.89413
